BEGIN:VCALENDAR
VERSION:2.0
PRODID:-//Tieton Cider Works - ECPv6.15.20//NONSGML v1.0//EN
CALSCALE:GREGORIAN
METHOD:PUBLISH
X-WR-CALNAME:Tieton Cider Works
X-ORIGINAL-URL:https://tietonciderworks.com
X-WR-CALDESC:Events for Tieton Cider Works
REFRESH-INTERVAL;VALUE=DURATION:PT1H
X-Robots-Tag:noindex
X-PUBLISHED-TTL:PT1H
BEGIN:VTIMEZONE
TZID:America/Vancouver
BEGIN:DAYLIGHT
TZOFFSETFROM:-0800
TZOFFSETTO:-0700
TZNAME:PDT
DTSTART:20250309T100000
END:DAYLIGHT
BEGIN:STANDARD
TZOFFSETFROM:-0700
TZOFFSETTO:-0800
TZNAME:PST
DTSTART:20251102T090000
END:STANDARD
BEGIN:DAYLIGHT
TZOFFSETFROM:-0800
TZOFFSETTO:-0700
TZNAME:PDT
DTSTART:20260308T100000
END:DAYLIGHT
BEGIN:STANDARD
TZOFFSETFROM:-0700
TZOFFSETTO:-0800
TZNAME:PST
DTSTART:20261101T090000
END:STANDARD
BEGIN:DAYLIGHT
TZOFFSETFROM:-0800
TZOFFSETTO:-0700
TZNAME:PDT
DTSTART:20270314T100000
END:DAYLIGHT
BEGIN:STANDARD
TZOFFSETFROM:-0700
TZOFFSETTO:-0800
TZNAME:PST
DTSTART:20271107T090000
END:STANDARD
END:VTIMEZONE
BEGIN:VEVENT
DTSTART;TZID=America/Vancouver:20260327T110000
DTEND;TZID=America/Vancouver:20260328T200000
DTSTAMP:20260423T123743
CREATED:20260326T002253Z
LAST-MODIFIED:20260326T002253Z
UID:8705-1774609200-1774728000@tietonciderworks.com
SUMMARY:Cider Club Release
DESCRIPTION:Join us to take home your spring release\, try new flavors and cocktails 😉 Imperial Pink Guava\, as well as taste bites from our new catering menu!
URL:https://tietonciderworks.com/event/cider-club-release-2/
LOCATION:Tieton Cider Works\, 619 W J St\, Yakima\, WA\, 98902\, US
CATEGORIES:Cider Bar
ATTACH;FMTTYPE=image/png:https://tietonciderworks.com/wp-content/uploads/2026/03/Can-Delete.png
END:VEVENT
END:VCALENDAR