BEGIN:VCALENDAR
VERSION:2.0
PRODID:-//Tieton Cider Works - ECPv6.15.20//NONSGML v1.0//EN
CALSCALE:GREGORIAN
METHOD:PUBLISH
X-ORIGINAL-URL:https://tietonciderworks.com
X-WR-CALDESC:Events for Tieton Cider Works
REFRESH-INTERVAL;VALUE=DURATION:PT1H
X-Robots-Tag:noindex
X-PUBLISHED-TTL:PT1H
BEGIN:VTIMEZONE
TZID:America/Vancouver
BEGIN:DAYLIGHT
TZOFFSETFROM:-0800
TZOFFSETTO:-0700
TZNAME:PDT
DTSTART:20130310T100000
END:DAYLIGHT
BEGIN:STANDARD
TZOFFSETFROM:-0700
TZOFFSETTO:-0800
TZNAME:PST
DTSTART:20131103T090000
END:STANDARD
BEGIN:DAYLIGHT
TZOFFSETFROM:-0800
TZOFFSETTO:-0700
TZNAME:PDT
DTSTART:20140309T100000
END:DAYLIGHT
BEGIN:STANDARD
TZOFFSETFROM:-0700
TZOFFSETTO:-0800
TZNAME:PST
DTSTART:20141102T090000
END:STANDARD
BEGIN:DAYLIGHT
TZOFFSETFROM:-0800
TZOFFSETTO:-0700
TZNAME:PDT
DTSTART:20150308T100000
END:DAYLIGHT
BEGIN:STANDARD
TZOFFSETFROM:-0700
TZOFFSETTO:-0800
TZNAME:PST
DTSTART:20151101T090000
END:STANDARD
BEGIN:DAYLIGHT
TZOFFSETFROM:-0800
TZOFFSETTO:-0700
TZNAME:PDT
DTSTART:20160313T100000
END:DAYLIGHT
BEGIN:STANDARD
TZOFFSETFROM:-0700
TZOFFSETTO:-0800
TZNAME:PST
DTSTART:20161106T090000
END:STANDARD
END:VTIMEZONE
BEGIN:VEVENT
DTSTART;TZID=America/Vancouver:20150620T120000
DTEND;TZID=America/Vancouver:20150620T180000
DTSTAMP:20260424T182043
CREATED:20150410T055007Z
LAST-MODIFIED:20150410T055007Z
UID:2158-1434801600-1434823200@tietonciderworks.com
SUMMARY:Cider Summit Portland
DESCRIPTION:SBS Imports and the Seattle Beer Collective are pleased to announce the return of Cider Summit NW Festival to Portland\, OR.  The fifth annual event will take place Friday\, June 19 from 2p-8p and Saturday\, June 20 from 12n-6p.  Cider Summit will be returning to its new home in the Pearl District – The Fields Neighborhood Park at NW 10th/Overton. Tieton Cider Works will be there pouring several of our ciders.  Tickets are $30.00 in advance and $35.00 at the door\, cash only. Dont miss this great 2 day cider event in Portlandia!
URL:https://tietonciderworks.com/event/cider-summit-portland-2/
LOCATION:The Fields Neighborhood Park\, NW 10th & Overton\, Portland\, OR\, United States
CATEGORIES:Cider Summit
END:VEVENT
BEGIN:VEVENT
DTSTART;TZID=America/Vancouver:20150619T020000
DTEND;TZID=America/Vancouver:20150619T200000
DTSTAMP:20260424T182043
CREATED:20150410T054716Z
LAST-MODIFIED:20150410T054716Z
UID:2155-1434679200-1434744000@tietonciderworks.com
SUMMARY:Cider Summit Portland
DESCRIPTION:SBS Imports and the Seattle Beer Collective are pleased to announce the return of Cider Summit NW Festival to Portland\, OR.  The fifth annual event will take place Friday\, June 19 from 2p-8p and Saturday\, June 20 from 12n-6p.  Cider Summit will be returning to its new home in the Pearl District – The Fields Neighborhood Park at NW 10th/Overton. Tieton Cider Works will be there pouring several of our ciders.  Tickets are $30.00 in advance and $35.00 at the door\, cash only. Dont miss this great 2 day cider event in Portlandia!
URL:https://tietonciderworks.com/event/cider-summit-portland/
LOCATION:Fields Neighborhood Park\, NW 10th and Overton\, Portland\, OR\, United States
CATEGORIES:Cider Summit
END:VEVENT
BEGIN:VEVENT
DTSTART;TZID=America/Vancouver:20150425T120000
DTEND;TZID=America/Vancouver:20150425T180000
DTSTAMP:20260424T182043
CREATED:20150404T030115Z
LAST-MODIFIED:20150404T030115Z
UID:2111-1429963200-1429984800@tietonciderworks.com
SUMMARY:Cider Summit in San Fransisco
DESCRIPTION:Come taste Tieton Cider Works ciders and this great\, 2nd annual cider event. Located at the Civil War Parade Ground in the Presideo. Tickets are $35.00 in advance\, $40.00 at the door.
URL:https://tietonciderworks.com/event/cider-summit-in-san-fransisco/
LOCATION:The Presideo\, 103 Montgomery Street\, San Fransisco\, CA\, 94129\, United States
CATEGORIES:Cider Summit
END:VEVENT
BEGIN:VEVENT
DTSTART;TZID=America/Vancouver:20150207T110000
DTEND;TZID=America/Vancouver:20150207T200000
DTSTAMP:20260424T182043
CREATED:20150122T073400Z
LAST-MODIFIED:20150122T073400Z
UID:1758-1423306800-1423339200@tietonciderworks.com
SUMMARY:Cider Summit Chicago
DESCRIPTION:
URL:https://tietonciderworks.com/event/cider-summit-chicago/
LOCATION:Grand Ballroom\, Navy Pier\, Chicago\, IL\, United States
CATEGORIES:Cider Summit
END:VEVENT
BEGIN:VEVENT
DTSTART;VALUE=DATE:20140905
DTEND;VALUE=DATE:20140907
DTSTAMP:20260424T182043
CREATED:20140707T021957Z
LAST-MODIFIED:20140924T015555Z
UID:414-1409875200-1410047999@tietonciderworks.com
SUMMARY:Cider Summit Seattle
DESCRIPTION:Cider Summit Seattle Celebrates 5th Anniversary! \nRegion’s Largest Cider Festival Returns to South Lake Union: Owners and cidermakers will be on hand to inform and guide guests through the samplings which will be available in 4-ounce tasting portions.  In addition to the superb range of ciders\, the event will feature live music\, specially paired food selections from Whole Foods Market and Capitol Cider\, and specially designed filled chocolates from Smitten Truffles.  A returning popular feature is the “dog lounge” water station benefitting Seattle Humane. Tickets are $25 in advance and $30 (cash only) at the door and are available online via Stranger tickets\, all Seattle Metro Area Whole Foods locations\, Umpqua Bank South Lake Union\, and selected bottle shops. Admission includes a tasting glass and 8 drink tickets.  Additional tasting tickets will be available for sale onsite at $2 per ticket.
URL:https://tietonciderworks.com/event/cider-summet-seattle/
LOCATION:South Lake Union Discovery Center\, 101 Westlake Ave N\, Seattle\, WA\, 98109\, United States
CATEGORIES:Cider Summit
END:VEVENT
END:VCALENDAR