BEGIN:VCALENDAR
VERSION:2.0
PRODID:-//Tieton Cider Works - ECPv6.15.20//NONSGML v1.0//EN
CALSCALE:GREGORIAN
METHOD:PUBLISH
X-ORIGINAL-URL:https://tietonciderworks.com
X-WR-CALDESC:Events for Tieton Cider Works
REFRESH-INTERVAL;VALUE=DURATION:PT1H
X-Robots-Tag:noindex
X-PUBLISHED-TTL:PT1H
BEGIN:VTIMEZONE
TZID:America/Vancouver
BEGIN:DAYLIGHT
TZOFFSETFROM:-0800
TZOFFSETTO:-0700
TZNAME:PDT
DTSTART:20240310T100000
END:DAYLIGHT
BEGIN:STANDARD
TZOFFSETFROM:-0700
TZOFFSETTO:-0800
TZNAME:PST
DTSTART:20241103T090000
END:STANDARD
BEGIN:DAYLIGHT
TZOFFSETFROM:-0800
TZOFFSETTO:-0700
TZNAME:PDT
DTSTART:20250309T100000
END:DAYLIGHT
BEGIN:STANDARD
TZOFFSETFROM:-0700
TZOFFSETTO:-0800
TZNAME:PST
DTSTART:20251102T090000
END:STANDARD
BEGIN:DAYLIGHT
TZOFFSETFROM:-0800
TZOFFSETTO:-0700
TZNAME:PDT
DTSTART:20260308T100000
END:DAYLIGHT
BEGIN:STANDARD
TZOFFSETFROM:-0700
TZOFFSETTO:-0800
TZNAME:PST
DTSTART:20261101T090000
END:STANDARD
END:VTIMEZONE
BEGIN:VEVENT
DTSTART;TZID=America/Vancouver:20250809T130000
DTEND;TZID=America/Vancouver:20250809T190000
DTSTAMP:20260423T224042
CREATED:20250807T190132Z
LAST-MODIFIED:20250807T190132Z
UID:8299-1754744400-1754766000@tietonciderworks.com
SUMMARY:Brew Five Three Beer and Music Festival
DESCRIPTION:Sip beer and cider from regional brewers and taste food from local restaurants while enjoying live entertainment on the main stage. This is an event for beer nerds and novice drinkers alike. Best of all\, your participation helps support Tacoma Arts Live’s year-round events and youth arts education programs. \nFull admission tickets include the tasting glass and eight tasting tokens. Each token can be exchanged for a four-ounce pour. Additional tokens can be purchased in advance\, 8 tokens for $12. \n\n\n\n\nEarly-bird ticket (through July 13): $51.00\nRegular ticket: $63.25\nDay of ticket: $68.25\nDesignated driver: $15.50\n(prices include online handling fees) \nSave money on handling fees by purchasing through the Box Office. Groups of 10+ can purchase by calling the Box Office at 253.346.1721. This is a 21+ Event; valid ID is required for entry. This is a dog-friendly event! \n\nTacoma Armory Directions & Parking: \nhttps://www.tacomaartslive.org/directions-parking/
URL:https://tietonciderworks.com/event/brew-five-three-beer-and-music-festival/
CATEGORIES:Out & About
ATTACH;FMTTYPE=image/png:https://tietonciderworks.com/wp-content/uploads/2025/08/Screen-Shot-2025-08-07-at-11.49.23-AM.png
END:VEVENT
BEGIN:VEVENT
DTSTART;TZID=America/Vancouver:20250816T130000
DTEND;TZID=America/Vancouver:20250816T190000
DTSTAMP:20260423T224042
CREATED:20250807T204137Z
LAST-MODIFIED:20250807T204933Z
UID:8303-1755349200-1755370800@tietonciderworks.com
SUMMARY:Tumwater Artesian Brewfest
DESCRIPTION:There will be more than 125 beverage choices in all\, delicious food\, fun games\, and captivating entertainment. \nThe Tumwater Artesian Brewfest provides a unique outdoor venue (in the shadow of the former Olympia Brewery) for you to SIP craft beers from 50+ NW breweries along with cider and spirits; SAVOR food from local vendors and restaurants; ENJOY live music\, and PLAY super-sized beer pong\, cornhole\, enter stein holding competitions\, and more! 21 and over event. \nLocation:Tumwater Valley Golf Course Driving Range\n4611 Tumwater Valley Drive SE\, Tumwater WA 98501 \nPrices go up at the gate.\nNo cash will be accepted at the gate. Ticket sales are card only.\nTaster – $45\nDesignated Driver – $15 \nNEW in 2025:\nTaster tickets include taster glass and tasting of beer/cider/mead.\nPlease note: We no longer use tokens. Attendees are still expected to drink responsibly.\nWashington State Law prohibits serving alcohol to anyone who appears intoxicated.
URL:https://tietonciderworks.com/event/tumwater-artesian-brewfest/
CATEGORIES:Out & About
ATTACH;FMTTYPE=image/png:https://tietonciderworks.com/wp-content/uploads/2025/08/Screen-Shot-2025-08-07-at-1.26.39-PM.png
END:VEVENT
BEGIN:VEVENT
DTSTART;TZID=America/Vancouver:20250823T170000
DTEND;TZID=America/Vancouver:20250823T210000
DTSTAMP:20260423T224042
CREATED:20250807T224827Z
LAST-MODIFIED:20250807T224827Z
UID:8311-1755968400-1755982800@tietonciderworks.com
SUMMARY:Spirits of the West Prosser Wine and Food Festival
DESCRIPTION:Spirits of the West returns to the Prosser Wine and Food Park for a celebration of local craft beer and spirits—no distributors\, just talented local makers showcasing their products. Enjoy live music from the Rod Giles Band\, a variety of food vendors\, a Western Market\, and other fun activities while you sip and explore. August 23rd from 5pm – 9pm. Tickets are $40 in advance or $50 at the gate. \nTickets purchased in advance: $40 includes 3 drink scrip\, an event sticker\, a beer koozie\, and a shot glass\nTickets at the gate for $50\n\nADDRESS:\nPROSSER WINE & FOOD PARK\, 2840 LEE RD\, PROSSER\, WA 99350
URL:https://tietonciderworks.com/event/spirits-of-the-west-prosser-wine-and-food-festival/
CATEGORIES:Out & About
ATTACH;FMTTYPE=image/jpeg:https://tietonciderworks.com/wp-content/uploads/2025/08/Can-Delete.jpeg
END:VEVENT
END:VCALENDAR