BEGIN:VCALENDAR
VERSION:2.0
PRODID:-//Tieton Cider Works - ECPv6.15.20//NONSGML v1.0//EN
CALSCALE:GREGORIAN
METHOD:PUBLISH
X-WR-CALNAME:Tieton Cider Works
X-ORIGINAL-URL:https://tietonciderworks.com
X-WR-CALDESC:Events for Tieton Cider Works
REFRESH-INTERVAL;VALUE=DURATION:PT1H
X-Robots-Tag:noindex
X-PUBLISHED-TTL:PT1H
BEGIN:VTIMEZONE
TZID:America/Vancouver
BEGIN:DAYLIGHT
TZOFFSETFROM:-0800
TZOFFSETTO:-0700
TZNAME:PDT
DTSTART:20240310T100000
END:DAYLIGHT
BEGIN:STANDARD
TZOFFSETFROM:-0700
TZOFFSETTO:-0800
TZNAME:PST
DTSTART:20241103T090000
END:STANDARD
BEGIN:DAYLIGHT
TZOFFSETFROM:-0800
TZOFFSETTO:-0700
TZNAME:PDT
DTSTART:20250309T100000
END:DAYLIGHT
BEGIN:STANDARD
TZOFFSETFROM:-0700
TZOFFSETTO:-0800
TZNAME:PST
DTSTART:20251102T090000
END:STANDARD
BEGIN:DAYLIGHT
TZOFFSETFROM:-0800
TZOFFSETTO:-0700
TZNAME:PDT
DTSTART:20260308T100000
END:DAYLIGHT
BEGIN:STANDARD
TZOFFSETFROM:-0700
TZOFFSETTO:-0800
TZNAME:PST
DTSTART:20261101T090000
END:STANDARD
END:VTIMEZONE
BEGIN:VEVENT
DTSTART;TZID=America/Vancouver:20250926T173000
DTEND;TZID=America/Vancouver:20250927T213000
DTSTAMP:20260424T041924
CREATED:20250916T055926Z
LAST-MODIFIED:20250916T055940Z
UID:8356-1758907800-1759008600@tietonciderworks.com
SUMMARY:Zootoberfest (Portland\, OR)
DESCRIPTION:Celebrate Zootoberfest! This special fall gathering pairs the fun atmosphere of a Bavarian beer fest with the amazing wildlife found only at the zoo. Fill your stein with offerings from the finest breweries and cideries in the Northwest and enjoy live music\, food carts\, animal encounters\, keeper chats and more. Zootoberfest is a 21+ event. Every ticket purchased helps the Oregon Zoo protect endangered species at home and around the world. \n\n40+ breweries and cideries offering 3 oz samples of their seasonal selections\nLive music featuring Rockit Radio\nOver 10 food vendors\, including fall favorites Brat Haus and Portland Pretzel & Popcorn Co.\nView animals like Tula Tu\, our baby Asian elephant\, hear a keeper chat from our primates team about orangutans\, and more!\n\nStop by to visit Whima who will be pouring Rum Barrel Pear and Huckleberry all night!
URL:https://tietonciderworks.com/event/zootoberfest-portland-or/
CATEGORIES:Out & About
ATTACH;FMTTYPE=image/jpeg:https://tietonciderworks.com/wp-content/uploads/2025/09/1440p-social-train-couple-zootoberfest-OZ-20250822.jpeg
END:VEVENT
BEGIN:VEVENT
DTSTART;TZID=America/Vancouver:20250927T120000
DTEND;TZID=America/Vancouver:20250927T170000
DTSTAMP:20260424T041924
CREATED:20250916T061334Z
LAST-MODIFIED:20250916T061334Z
UID:8359-1758974400-1758992400@tietonciderworks.com
SUMMARY:Cider Swig Festival (Tacoma\, WA)
DESCRIPTION:The Cider Swig returns for year 12 – with dozens of regional ciders to sip\, live music\, and award winning “curbside cuisine” by area chefs and their food trucks\, local artisan vendors\, the 7th annual Battle of the Pies – Apple Pie contest\, and great competitions in the Midway!\n\n\n\n\nDozens of Northwest makers will present over 130 ciders (and related libations\, e.g.\, mead\, wine\, beer\, spirits). And\, the Bottle Shop will stock many of the selections available for sampling\, so you can take your favorites home to enjoy! \n\nLocated at:LeMay Car Museum 2702 E D St Tacoma\, WA 98421 \n\nWe will be pouring fall favorites- Spiced Pecan\, Cranberry and Bourbon Barrel Peach! Stop by and say hi to Peter! \n\n 
URL:https://tietonciderworks.com/event/cider-swig-festival-tacoma-wa/
CATEGORIES:Out & About
ATTACH;FMTTYPE=image/png:https://tietonciderworks.com/wp-content/uploads/2025/09/Screen-Shot-2025-09-15-at-11.11.02-PM.png
END:VEVENT
BEGIN:VEVENT
DTSTART;TZID=America/Vancouver:20251004T110000
DTEND;TZID=America/Vancouver:20251004T190000
DTSTAMP:20260424T041924
CREATED:20250916T062009Z
LAST-MODIFIED:20250916T062021Z
UID:8362-1759575600-1759604400@tietonciderworks.com
SUMMARY:Orchard and Ale Festival (Hood River\, OR)
DESCRIPTION:Hood River Orchard & Ale will feature 25 breweries serving fresh hopped beers\, and 25 cideries pouring their autumn ciders\, many local and regional vendors will be resent that reflect the cuisine of the area! \nHood River Orchard & Ale will also feature around 20 talented craft vendors whose art represents the beautiful people\nand landscape of our area.
URL:https://tietonciderworks.com/event/orchard-and-ale-festival-hood-river-or/
CATEGORIES:Out & About
ATTACH;FMTTYPE=image/png:https://tietonciderworks.com/wp-content/uploads/2025/09/Screen-Shot-2025-09-15-at-11.19.33-PM.png
END:VEVENT
BEGIN:VEVENT
DTSTART;TZID=America/Vancouver:20251004T120000
DTEND;TZID=America/Vancouver:20251004T160000
DTSTAMP:20260424T041924
CREATED:20250916T065334Z
LAST-MODIFIED:20250916T065334Z
UID:8375-1759579200-1759593600@tietonciderworks.com
SUMMARY:Bigfoot Brewfest (Seabrook\, WA)
DESCRIPTION:Get ready for an unforgettable experience at one of the biggest beer festivals on the Washington Coast! Join us in the vibrant heart of Seabrook on Saturday\, October 4th\, from 12:00 PM to 4:00 PM for a day packed with fantastic craft brews\, mouth-watering food\, thrilling games\, competitive tournaments\, and live music that will keep you dancing! Don’t miss out on this celebration of great tastes and good times! \nFood vendors will be on site serving up some delicious food. We will have two bands playing live: Nick Mardon Trio and Lane Norberg. \nSeek us out to try some of our favorite fall ciders!
URL:https://tietonciderworks.com/event/bigfoot-brewfest-seabrook-wa/
CATEGORIES:Out & About
ATTACH;FMTTYPE=image/png:https://tietonciderworks.com/wp-content/uploads/2025/09/Screen-Shot-2025-09-15-at-11.52.43-PM.png
END:VEVENT
BEGIN:VEVENT
DTSTART;TZID=America/Vancouver:20251004T120000
DTEND;TZID=America/Vancouver:20251004T180000
DTSTAMP:20260424T041924
CREATED:20250916T063929Z
LAST-MODIFIED:20250916T063929Z
UID:8369-1759579200-1759600800@tietonciderworks.com
SUMMARY:Idaho Cider Fest (Boise\, ID)
DESCRIPTION:There will be cideries from around the region\, local vendors from the block\, food\, games from DT Plays\, local beer\, and lots of fun! Free entry\, a $20 8 token bundle gets you 4oz pours of any cider/beer on the block! \nWe’ll be pouring fall favorites Spiced Pecan and Cranberry!
URL:https://tietonciderworks.com/event/idaho-cider-fest-boise-id/
CATEGORIES:Out & About
ATTACH;FMTTYPE=image/jpeg:https://tietonciderworks.com/wp-content/uploads/2025/09/Events-TCW-Tent--scaled.jpeg
END:VEVENT
BEGIN:VEVENT
DTSTART;TZID=America/Vancouver:20251004T130000
DTEND;TZID=America/Vancouver:20251004T190000
DTSTAMP:20260424T041924
CREATED:20250916T064644Z
LAST-MODIFIED:20250916T064644Z
UID:8373-1759582800-1759604400@tietonciderworks.com
SUMMARY:Oktobearfest Woodland Park Zoo (Seattle)
DESCRIPTION:Woodland Park Zoo transforms into a beer-lover’s paradise. No kids. Just you\, your crew\, and over 50 Northwest breweries and cideries. Filled with sips worth savoring\, one-of-a-kind animal encounters\, and memories waiting to be made. \nWith the entire zoo open\, you’ll get the chance to wander through exhibits with a drink in hand—sampling your favorite local pours and discovering bold new brews to stock your fridge with. This kid-free event lets adults experience wildlife and Woodland Park Zoo in a whole new way! \nWe will be pouring fall favorites flavors\, seek us out for some sweet cider
URL:https://tietonciderworks.com/event/oktobearfest-woodland-park-zoo-seattle/
CATEGORIES:Out & About
END:VEVENT
BEGIN:VEVENT
DTSTART;TZID=America/Vancouver:20251004T170000
DTEND;TZID=America/Vancouver:20251004T220000
DTSTAMP:20260424T041924
CREATED:20250916T063007Z
LAST-MODIFIED:20250916T063007Z
UID:8366-1759597200-1759615200@tietonciderworks.com
SUMMARY:Fresh Hop Ale Festival ( Yakima\, WA)
DESCRIPTION:Today\, the Fresh Hop Ale Festival continues to be held in Yakima Washington\, the heart of hop country for our nation. Hosting more than 60 breweries\, wineries\, and cideries along with several thousand guests\, it is recognized by numerous beer and news publications as one of the nation’s best beer festivals. \nTry our Fresh Hop Cider\, a small limited batch made from local Dolcita™ hops and fresh pressed apples- come get a glass of this floral cider with dark rum characteristics while you sip on other fresh hop beers grown in our hometown!
URL:https://tietonciderworks.com/event/fresh-hop-ale-festival-yakima-wa/
CATEGORIES:Out & About
ATTACH;FMTTYPE=image/jpeg:https://tietonciderworks.com/wp-content/uploads/2025/09/Hops-scaled.jpg
END:VEVENT
END:VCALENDAR